BEGIN:VCALENDAR
PRODID:gbp.georgia.gov
VERSION:2.0
CALSCALE:GREGORIAN
BEGIN:VEVENT
UID:3f51df224a9b5f39bbce0b718bd3811b
DTSTAMP:20260424T223818Z
SUMMARY:Georgia Board of Pharmacy Conference Call
URL:https://gbp.georgia.gov/events/2019-09-30/georgia-board-pharmacy-confer
 ence-call
DTSTART;VALUE=DATE:20190930
LOCATION:2 Peachtree NW 6th Floor  Atlanta\, GA 30303 US
X-LIC-LOCATION:America/New_York
X-WR-TIMEZONE:America/New_York
END:VEVENT
BEGIN:VTIMEZONE
TZID:America/New_York
END:VTIMEZONE
END:VCALENDAR
