BEGIN:VCALENDAR
PRODID:gbp.georgia.gov
VERSION:2.0
CALSCALE:GREGORIAN
BEGIN:VEVENT
UID:19187156951afa7f09ce621394bbd20b
DTSTAMP:20260424T203751Z
SUMMARY:Pharmacist Practical Examination
URL:https://gbp.georgia.gov/events/2020-01-16/pharmacist-practical-examinat
 ion
DTSTART;VALUE=DATE:20200116
LOCATION:709 Mall Blvd.  Savannah\, GA 31406 US
X-LIC-LOCATION:America/New_York
X-WR-TIMEZONE:America/New_York
END:VEVENT
BEGIN:VTIMEZONE
TZID:America/New_York
END:VTIMEZONE
END:VCALENDAR
