BEGIN:VCALENDAR
PRODID:gbp.georgia.gov
VERSION:2.0
CALSCALE:GREGORIAN
BEGIN:VEVENT
UID:4f99e6417e7fb80db7b7f5cf45c328dd
DTSTAMP:20260424T221922Z
SUMMARY:Pharmacist Practical Examination
URL:https://gbp.georgia.gov/events/2020-03-05/pharmacist-practical-examinat
 ion
DTSTART;VALUE=DATE:20200305
LOCATION:Mercer University College of Pharmacy 3001 Mercer University Dr  A
 tlanta\, GA 30341 US
X-LIC-LOCATION:America/New_York
X-WR-TIMEZONE:America/New_York
END:VEVENT
BEGIN:VTIMEZONE
TZID:America/New_York
END:VTIMEZONE
END:VCALENDAR
