BEGIN:VCALENDAR
PRODID:gbp.georgia.gov
VERSION:2.0
CALSCALE:GREGORIAN
BEGIN:VEVENT
UID:a29a376a5ec7752310cd0ad529a2c97f
DTSTAMP:20260424T210155Z
SUMMARY:Georgia Board of Pharmacy Conference Call
URL:https://gbp.georgia.gov/events/2020-07-15/georgia-board-pharmacy-confer
 ence-call
DTSTART;VALUE=DATE:20200715
LOCATION:2 Peachtree Street\, NW\, 6th Floor  Atlanta\, GA 30303 US
X-LIC-LOCATION:America/New_York
X-WR-TIMEZONE:America/New_York
END:VEVENT
BEGIN:VTIMEZONE
TZID:America/New_York
END:VTIMEZONE
END:VCALENDAR
