BEGIN:VCALENDAR
PRODID:gbp.georgia.gov
VERSION:2.0
CALSCALE:GREGORIAN
BEGIN:VEVENT
UID:232795983b9343768aaab2559ee607b0
DTSTAMP:20260424T211207Z
SUMMARY:Georgia Board of Pharmacy Conference Call
URL:https://gbp.georgia.gov/events/2020-05-12/georgia-board-pharmacy-confer
 ence-call
DTSTART;VALUE=DATE:20200512
LOCATION:2 Peachtree Street\, NW\, 6th Floor  Atlanta\, GA 30303 US
X-LIC-LOCATION:America/New_York
X-WR-TIMEZONE:America/New_York
END:VEVENT
BEGIN:VTIMEZONE
TZID:America/New_York
END:VTIMEZONE
END:VCALENDAR
