BEGIN:VCALENDAR
PRODID:gbp.georgia.gov
VERSION:2.0
CALSCALE:GREGORIAN
BEGIN:VEVENT
UID:599b563799a424abdc910ebd1af79a57
DTSTAMP:20260424T212306Z
SUMMARY:Georgia Board of Pharmacy Conference Call
URL:https://gbp.georgia.gov/events/2020-06-17/georgia-board-pharmacy-confer
 ence-call
DTSTART;VALUE=DATE:20200617
LOCATION:2 Peachtree Street\, NW\, 6th Floor  Atlanta\, GA 30303 US
X-LIC-LOCATION:America/New_York
X-WR-TIMEZONE:America/New_York
END:VEVENT
BEGIN:VTIMEZONE
TZID:America/New_York
END:VTIMEZONE
END:VCALENDAR
