BEGIN:VCALENDAR
VERSION:2.0
PRODID:gbp.georgia.gov
X-WR-TIMEZONE:America/New_York
BEGIN:VTIMEZONE
TZID:America/New_York
X-LIC-LOCATION:America/New_York
END:VTIMEZONE
BEGIN:VEVENT
UID:60889ee8e5dbb
DTSTART;TZID=UTC:20210414T130000
SEQUENCE:0
TRANSP:OPAQUE
URL:https://gbp.georgia.gov/events/2021-04-14/georgia-board-pharmacy-teleco
 nference
LOCATION:2 Peachtree Street\, NW 6th Floor ATLANTA\, GA 30303
SUMMARY:Georgia Board of Pharmacy Teleconference
CLASS:PUBLIC
DESCRIPTION:Click here to see the meeting agenda. 
DTSTAMP:20210427T193152Z
END:VEVENT
END:VCALENDAR