BEGIN:VCALENDAR
PRODID:gbp.georgia.gov
VERSION:2.0
CALSCALE:GREGORIAN
BEGIN:VEVENT
UID:a263c85bfdfdde40e28bf61505faf070
DTSTAMP:20260425T003618Z
SUMMARY:Institutional Pharmacy Rule Committee Meeting
URL:https://gbp.georgia.gov/events/2018-08-28/institutional-pharmacy-rule-c
 ommittee-meeting
DTSTART;VALUE=DATE:20180828
DTEND;VALUE=DATE:20180829
LOCATION:2 Martin Luther King Jr. Drive SE 11th Floor - East Tower  Atlanta
 \, GA 30334 US
X-LIC-LOCATION:America/New_York
X-WR-TIMEZONE:America/New_York
END:VEVENT
BEGIN:VTIMEZONE
TZID:America/New_York
END:VTIMEZONE
END:VCALENDAR
